BEGIN:VCALENDAR
PRODID:-//Pixl8//Eventfolio//EN
VERSION:2.0
X-WR-TIMEZONE:Europe/London
CALSCALE:GREGORIAN
METHOD:PUBLISH
CLASS:PUBLIC
BEGIN:VTIMEZONE
TZID:Europe/London
LAST-MODIFIED:20260306T231828Z
TZURL:https://www.tzurl.org/zoneinfo-outlook/Europe/London
X-LIC-LOCATION:Europe/London
BEGIN:DAYLIGHT
TZNAME:BST
TZOFFSETFROM:+0000
TZOFFSETTO:+0100
DTSTART:19700329T010000
RRULE:FREQ=YEARLY;BYMONTH=3;BYDAY=-1SU
END:DAYLIGHT
BEGIN:STANDARD
TZNAME:GMT
TZOFFSETFROM:+0100
TZOFFSETTO:+0000
DTSTART:19701025T020000
RRULE:FREQ=YEARLY;BYMONTH=10;BYDAY=-1SU
END:STANDARD
END:VTIMEZONE
BEGIN:VEVENT
DTSTART;TZID=Europe/London;VALUE=DATE:20250206
DTEND;TZID=Europe/London;VALUE=DATE:20250207
DTSTAMP:20260425T201613Z
UID:{68609A14-8B52-4797-B6DF6F5255CA63AD}
LOCATION:Online
SUMMARY:5 strategies for driving member engagement in 2025
DESCRIPTION:This free RD Mobile event shares tips to understand your members’ needs to drive better engagement.\n
 \n
 Event details: https://www.amosshe.org.uk/latest/event-calendar/5-strategies-for-driving-member-engagement-in-2025.html
PRIORITY:1
END:VEVENT
END:VCALENDAR