BEGIN:VCALENDAR
PRODID:-//Pixl8//Eventfolio//EN
VERSION:2.0
X-WR-TIMEZONE:Europe/London
CALSCALE:GREGORIAN
METHOD:PUBLISH
CLASS:PUBLIC
BEGIN:VTIMEZONE
TZID:Europe/London
LAST-MODIFIED:20260306T231828Z
TZURL:https://www.tzurl.org/zoneinfo-outlook/Europe/London
X-LIC-LOCATION:Europe/London
BEGIN:DAYLIGHT
TZNAME:BST
TZOFFSETFROM:+0000
TZOFFSETTO:+0100
DTSTART:19700329T010000
RRULE:FREQ=YEARLY;BYMONTH=3;BYDAY=-1SU
END:DAYLIGHT
BEGIN:STANDARD
TZNAME:GMT
TZOFFSETFROM:+0100
TZOFFSETTO:+0000
DTSTART:19701025T020000
RRULE:FREQ=YEARLY;BYMONTH=10;BYDAY=-1SU
END:STANDARD
END:VTIMEZONE
BEGIN:VEVENT
DTSTART;TZID=Europe/London:20250325T093000
DTEND;TZID=Europe/London:20250325T163000
DTSTAMP:20260425T161933Z
UID:{5E77E272-A5BE-45B9-B045616B591BEA2E}
LOCATION:Online
SUMMARY:A guide to strategic thinking: principles, teachings and tools
DESCRIPTION:This Government Exchange event helps you build an understanding of what strategic thinking is and the key tools and techniques that support and build competence in strategic thinking.\n
 \n
 Event details: https://www.amosshe.org.uk/latest/event-calendar/a-guide-to-strategic-thinking-principles-teachings-and-tools.html
PRIORITY:1
END:VEVENT
END:VCALENDAR