BEGIN:VCALENDAR
PRODID:-//Pixl8//Eventfolio//EN
VERSION:2.0
X-WR-TIMEZONE:Europe/London
CALSCALE:GREGORIAN
METHOD:PUBLISH
CLASS:PUBLIC
BEGIN:VTIMEZONE
TZID:Europe/London
LAST-MODIFIED:20260306T231828Z
TZURL:https://www.tzurl.org/zoneinfo-outlook/Europe/London
X-LIC-LOCATION:Europe/London
BEGIN:DAYLIGHT
TZNAME:BST
TZOFFSETFROM:+0000
TZOFFSETTO:+0100
DTSTART:19700329T010000
RRULE:FREQ=YEARLY;BYMONTH=3;BYDAY=-1SU
END:DAYLIGHT
BEGIN:STANDARD
TZNAME:GMT
TZOFFSETFROM:+0100
TZOFFSETTO:+0000
DTSTART:19701025T020000
RRULE:FREQ=YEARLY;BYMONTH=10;BYDAY=-1SU
END:STANDARD
END:VTIMEZONE
BEGIN:VEVENT
DTSTART;TZID=Europe/London:20241107T093000
DTEND;TZID=Europe/London:20241107T163000
DTSTAMP:20260425T190147Z
UID:{9D271DA3-5FD3-4652-BCFECC9420DDAB4D}
LOCATION:London\, United Kingdom
SUMMARY:Access, participation and student success conference 2024
DESCRIPTION:This Universities UK conference provides informative, timely content from the most pertinent speakers on access, participation and student success as well as a wide range of opportunities to network, discuss, and make connections with colleagues within the sector. \n
 \n
 Event details: https://www.amosshe.org.uk/latest/event-calendar/access-participation-and-student-success-conference-2024.html
PRIORITY:1
END:VEVENT
END:VCALENDAR