BEGIN:VCALENDAR
PRODID:-//Pixl8//Eventfolio//EN
VERSION:2.0
X-WR-TIMEZONE:Europe/London
CALSCALE:GREGORIAN
METHOD:PUBLISH
CLASS:PUBLIC
BEGIN:VTIMEZONE
TZID:Europe/London
LAST-MODIFIED:20260306T231828Z
TZURL:https://www.tzurl.org/zoneinfo-outlook/Europe/London
X-LIC-LOCATION:Europe/London
BEGIN:DAYLIGHT
TZNAME:BST
TZOFFSETFROM:+0000
TZOFFSETTO:+0100
DTSTART:19700329T010000
RRULE:FREQ=YEARLY;BYMONTH=3;BYDAY=-1SU
END:DAYLIGHT
BEGIN:STANDARD
TZNAME:GMT
TZOFFSETFROM:+0100
TZOFFSETTO:+0000
DTSTART:19701025T020000
RRULE:FREQ=YEARLY;BYMONTH=10;BYDAY=-1SU
END:STANDARD
END:VTIMEZONE
BEGIN:VEVENT
DTSTART;TZID=Europe/London;VALUE=DATE:20251120
DTEND;TZID=Europe/London;VALUE=DATE:20251121
DTSTAMP:20260425T162646Z
UID:{FC7B5B2F-87A0-486E-B1A136244E4E4E4F}
LOCATION:Online
SUMMARY:Access, participation and student success conference 2025
DESCRIPTION:This Universities UK event brings together colleagues from across the sector to explore the evolving landscape of student equity and opportunity.\n
 \n
 Event details: https://www.amosshe.org.uk/latest/event-calendar/access-participation-and-student-success-conference-2025.html
PRIORITY:1
END:VEVENT
END:VCALENDAR