BEGIN:VCALENDAR
PRODID:-//Pixl8//Eventfolio//EN
VERSION:2.0
X-WR-TIMEZONE:America/Halifax
CALSCALE:GREGORIAN
METHOD:PUBLISH
CLASS:PUBLIC
BEGIN:VTIMEZONE
TZID:America/Halifax
LAST-MODIFIED:20260306T231828Z
TZURL:https://www.tzurl.org/zoneinfo-outlook/America/Halifax
X-LIC-LOCATION:America/Halifax
BEGIN:DAYLIGHT
TZNAME:ADT
TZOFFSETFROM:-0400
TZOFFSETTO:-0300
DTSTART:19700308T020000
RRULE:FREQ=YEARLY;BYMONTH=3;BYDAY=2SU
END:DAYLIGHT
BEGIN:STANDARD
TZNAME:AST
TZOFFSETFROM:-0300
TZOFFSETTO:-0400
DTSTART:19701101T020000
RRULE:FREQ=YEARLY;BYMONTH=11;BYDAY=1SU
END:STANDARD
END:VTIMEZONE
BEGIN:VEVENT
DTSTART;TZID=America/Halifax;VALUE=DATE:20250225
DTEND;TZID=America/Halifax;VALUE=DATE:20250228
DTSTAMP:20260423T141428Z
UID:{A714E06C-6660-4901-9194CA2D5CE69B0B}
LOCATION:Online
SUMMARY:Accessibility and inclusion summit
DESCRIPTION:This Canada-based CACUSS (Canadian Association of College and University Student Services) event brings together all levels of experiences and knowledge from the accessibility and disability field to learn, share, and discuss a variety of topics and showcase innovative projects.\n
 \n
 Event details: https://www.amosshe.org.uk/latest/event-calendar/accessibility-and-inclusion-summit.html
PRIORITY:1
END:VEVENT
END:VCALENDAR