BEGIN:VCALENDAR
PRODID:-//Pixl8//Eventfolio//EN
VERSION:2.0
X-WR-TIMEZONE:Europe/London
CALSCALE:GREGORIAN
METHOD:PUBLISH
CLASS:PUBLIC
BEGIN:VTIMEZONE
TZID:Europe/London
LAST-MODIFIED:20260306T231828Z
TZURL:https://www.tzurl.org/zoneinfo-outlook/Europe/London
X-LIC-LOCATION:Europe/London
BEGIN:DAYLIGHT
TZNAME:BST
TZOFFSETFROM:+0000
TZOFFSETTO:+0100
DTSTART:19700329T010000
RRULE:FREQ=YEARLY;BYMONTH=3;BYDAY=-1SU
END:DAYLIGHT
BEGIN:STANDARD
TZNAME:GMT
TZOFFSETFROM:+0100
TZOFFSETTO:+0000
DTSTART:19701025T020000
RRULE:FREQ=YEARLY;BYMONTH=10;BYDAY=-1SU
END:STANDARD
END:VTIMEZONE
BEGIN:VEVENT
DTSTART;TZID=Europe/London;VALUE=DATE:20241023
DTEND;TZID=Europe/London;VALUE=DATE:20241024
DTSTAMP:20260423T105755Z
UID:{FFE0C770-10DA-4EA6-A52285065C7CA671}
LOCATION:Online
SUMMARY:Accessibility planning for 2025
DESCRIPTION:This free AbilityNet webinar, for anyone with responsibility for delivering accessibility in their work, helps you think about what you want to achieve in 2025.\n
 \n
 Event details: https://www.amosshe.org.uk/latest/event-calendar/accessibility-planning-for-2025.html
PRIORITY:1
END:VEVENT
END:VCALENDAR