BEGIN:VCALENDAR
PRODID:-//Pixl8//Eventfolio//EN
VERSION:2.0
X-WR-TIMEZONE:Europe/London
CALSCALE:GREGORIAN
METHOD:PUBLISH
CLASS:PUBLIC
BEGIN:VTIMEZONE
TZID:Europe/London
LAST-MODIFIED:20260306T231828Z
TZURL:https://www.tzurl.org/zoneinfo-outlook/Europe/London
X-LIC-LOCATION:Europe/London
BEGIN:DAYLIGHT
TZNAME:BST
TZOFFSETFROM:+0000
TZOFFSETTO:+0100
DTSTART:19700329T010000
RRULE:FREQ=YEARLY;BYMONTH=3;BYDAY=-1SU
END:DAYLIGHT
BEGIN:STANDARD
TZNAME:GMT
TZOFFSETFROM:+0100
TZOFFSETTO:+0000
DTSTART:19701025T020000
RRULE:FREQ=YEARLY;BYMONTH=10;BYDAY=-1SU
END:STANDARD
END:VTIMEZONE
BEGIN:VEVENT
DTSTART;TZID=Europe/London;VALUE=DATE:20250918
DTEND;TZID=Europe/London;VALUE=DATE:20250919
DTSTAMP:20260423T105811Z
UID:{BAF2E4E0-C874-4163-B75E36078D15E263}
LOCATION:Online
SUMMARY:Accessible social media
DESCRIPTION:This AbilityNet event will highlight the importance of creating accessible social media content.\n
 \n
 Event details: https://www.amosshe.org.uk/latest/event-calendar/accessible-social-media.html
PRIORITY:1
END:VEVENT
END:VCALENDAR