BEGIN:VCALENDAR
PRODID:-//Pixl8//Eventfolio//EN
VERSION:2.0
X-WR-TIMEZONE:America/Los_Angeles
CALSCALE:GREGORIAN
METHOD:PUBLISH
CLASS:PUBLIC
BEGIN:VTIMEZONE
TZID:America/Los_Angeles
LAST-MODIFIED:20260306T231828Z
TZURL:https://www.tzurl.org/zoneinfo-outlook/America/Los_Angeles
X-LIC-LOCATION:America/Los_Angeles
BEGIN:DAYLIGHT
TZNAME:PDT
TZOFFSETFROM:-0800
TZOFFSETTO:-0700
DTSTART:19700308T020000
RRULE:FREQ=YEARLY;BYMONTH=3;BYDAY=2SU
END:DAYLIGHT
BEGIN:STANDARD
TZNAME:PST
TZOFFSETFROM:-0700
TZOFFSETTO:-0800
DTSTART:19701101T020000
RRULE:FREQ=YEARLY;BYMONTH=11;BYDAY=1SU
END:STANDARD
END:VTIMEZONE
BEGIN:VEVENT
DTSTART;TZID=America/Los_Angeles;VALUE=DATE:20250216
DTEND;TZID=America/Los_Angeles;VALUE=DATE:20250220
DTSTAMP:20260425T231223Z
UID:{2FBC40F4-724E-4858-8703AE9EEC2F69B5}
LOCATION:Long Beach\, United States
SUMMARY:ACPA25: ACPA Annual Convention
DESCRIPTION:This ACPA (College Student Educators International) event is a key gathering of Student Affairs professionals from across the USA.\n
 \n
 Event details: https://www.amosshe.org.uk/latest/event-calendar/acpa25-acpa-annual-convention.html
PRIORITY:1
END:VEVENT
END:VCALENDAR