BEGIN:VCALENDAR
PRODID:-//Pixl8//Eventfolio//EN
VERSION:2.0
X-WR-TIMEZONE:America/New_York
CALSCALE:GREGORIAN
METHOD:PUBLISH
CLASS:PUBLIC
BEGIN:VTIMEZONE
TZID:America/New_York
LAST-MODIFIED:20260306T231828Z
TZURL:https://www.tzurl.org/zoneinfo-outlook/America/New_York
X-LIC-LOCATION:America/New_York
BEGIN:DAYLIGHT
TZNAME:EDT
TZOFFSETFROM:-0500
TZOFFSETTO:-0400
DTSTART:19700308T020000
RRULE:FREQ=YEARLY;BYMONTH=3;BYDAY=2SU
END:DAYLIGHT
BEGIN:STANDARD
TZNAME:EST
TZOFFSETFROM:-0400
TZOFFSETTO:-0500
DTSTART:19701101T020000
RRULE:FREQ=YEARLY;BYMONTH=11;BYDAY=1SU
END:STANDARD
END:VTIMEZONE
BEGIN:VEVENT
DTSTART;TZID=America/New_York:20250422T140000
DTEND;TZID=America/New_York:20250422T153000
DTSTAMP:20260423T161605Z
UID:{A4269A30-9DE2-4481-854431A33ED89672}
LOCATION:Online
SUMMARY:ADA and reasonable accommodations in housing
DESCRIPTION:This US-based PaperClip Communications event shares practical insights into the requirements surrounding accommodation requests from disabled students, including some of the misunderstood and overlooked aspects of housing both on and off campus.\n
 \n
 Event details: https://www.amosshe.org.uk/latest/event-calendar/ada-and-reasonable-accommodations-in-housing.html
PRIORITY:1
END:VEVENT
END:VCALENDAR