BEGIN:VCALENDAR
PRODID:-//Pixl8//Eventfolio//EN
VERSION:2.0
X-WR-TIMEZONE:Europe/London
CALSCALE:GREGORIAN
METHOD:PUBLISH
CLASS:PUBLIC
BEGIN:VTIMEZONE
TZID:Europe/London
LAST-MODIFIED:20260306T231828Z
TZURL:https://www.tzurl.org/zoneinfo-outlook/Europe/London
X-LIC-LOCATION:Europe/London
BEGIN:DAYLIGHT
TZNAME:BST
TZOFFSETFROM:+0000
TZOFFSETTO:+0100
DTSTART:19700329T010000
RRULE:FREQ=YEARLY;BYMONTH=3;BYDAY=-1SU
END:DAYLIGHT
BEGIN:STANDARD
TZNAME:GMT
TZOFFSETFROM:+0100
TZOFFSETTO:+0000
DTSTART:19701025T020000
RRULE:FREQ=YEARLY;BYMONTH=10;BYDAY=-1SU
END:STANDARD
END:VTIMEZONE
BEGIN:VEVENT
DTSTART;TZID=Europe/London;VALUE=DATE:20250619
DTEND;TZID=Europe/London;VALUE=DATE:20250620
DTSTAMP:20260425T163519Z
UID:{C9BE2E1D-E3BA-4691-97458A5A29FECCEA}
LOCATION:Online
SUMMARY:Addressing harassment and sexual misconduct experienced by postgraduate researchers
DESCRIPTION:This free UK Council Graduate Education and The 1752 Group event features the launch of the toolkit ​“Addressing harassment and sexual misconduct experienced by postgraduate researchers”.\n
 \n
 Event details: https://www.amosshe.org.uk/latest/event-calendar/addressing-harassment-and-sexual-misconduct-experienced-by-postgraduate-researchers.html
PRIORITY:1
END:VEVENT
END:VCALENDAR