BEGIN:VCALENDAR
PRODID:-//Pixl8//Eventfolio//EN
VERSION:2.0
X-WR-TIMEZONE:Europe/London
CALSCALE:GREGORIAN
METHOD:PUBLISH
CLASS:PUBLIC
BEGIN:VTIMEZONE
TZID:Europe/London
LAST-MODIFIED:20260306T231828Z
TZURL:https://www.tzurl.org/zoneinfo-outlook/Europe/London
X-LIC-LOCATION:Europe/London
BEGIN:DAYLIGHT
TZNAME:BST
TZOFFSETFROM:+0000
TZOFFSETTO:+0100
DTSTART:19700329T010000
RRULE:FREQ=YEARLY;BYMONTH=3;BYDAY=-1SU
END:DAYLIGHT
BEGIN:STANDARD
TZNAME:GMT
TZOFFSETFROM:+0100
TZOFFSETTO:+0000
DTSTART:19701025T020000
RRULE:FREQ=YEARLY;BYMONTH=10;BYDAY=-1SU
END:STANDARD
END:VTIMEZONE
BEGIN:VEVENT
DTSTART;TZID=Europe/London:20241010T130000
DTEND;TZID=Europe/London:20241010T143000
DTSTAMP:20260423T182236Z
UID:{A7D99C83-B627-45BE-9F037653CD1DC752}
LOCATION:Online
SUMMARY:Advising challenging students online: obstacles & opportunities
DESCRIPTION:This US-based Innovative Educators event explores the underlying factors which impact student behaviour to help advise challenging students.\n
 \n
 Event details: https://www.amosshe.org.uk/latest/event-calendar/advising-challenging-students-online-obstacles-opportunities.html
PRIORITY:1
END:VEVENT
END:VCALENDAR