BEGIN:VCALENDAR
PRODID:-//Pixl8//Eventfolio//EN
VERSION:2.0
X-WR-TIMEZONE:America/New_York
CALSCALE:GREGORIAN
METHOD:PUBLISH
CLASS:PUBLIC
BEGIN:VTIMEZONE
TZID:America/New_York
LAST-MODIFIED:20260306T231828Z
TZURL:https://www.tzurl.org/zoneinfo-outlook/America/New_York
X-LIC-LOCATION:America/New_York
BEGIN:DAYLIGHT
TZNAME:EDT
TZOFFSETFROM:-0500
TZOFFSETTO:-0400
DTSTART:19700308T020000
RRULE:FREQ=YEARLY;BYMONTH=3;BYDAY=2SU
END:DAYLIGHT
BEGIN:STANDARD
TZNAME:EST
TZOFFSETFROM:-0400
TZOFFSETTO:-0500
DTSTART:19701101T020000
RRULE:FREQ=YEARLY;BYMONTH=11;BYDAY=1SU
END:STANDARD
END:VTIMEZONE
BEGIN:VEVENT
DTSTART;TZID=America/New_York;VALUE=DATE:20250929
DTEND;TZID=America/New_York;VALUE=DATE:20250930
DTSTAMP:20260425T172920Z
UID:{573EAA82-53D2-475B-A187655CC12F5C30}
LOCATION:Online
SUMMARY:AI and mental health
DESCRIPTION:This US-based PaperClip Communications explores how to improve mental health services by increasing access, boosting efficiency and enhancing clinical impact.\n
 \n
 Event details: https://www.amosshe.org.uk/latest/event-calendar/ai-and-mental-health.html
PRIORITY:1
END:VEVENT
END:VCALENDAR