BEGIN:VCALENDAR
PRODID:-//Pixl8//Eventfolio//EN
VERSION:2.0
X-WR-TIMEZONE:Europe/London
CALSCALE:GREGORIAN
METHOD:PUBLISH
CLASS:PUBLIC
BEGIN:VTIMEZONE
TZID:Europe/London
LAST-MODIFIED:20260306T231828Z
TZURL:https://www.tzurl.org/zoneinfo-outlook/Europe/London
X-LIC-LOCATION:Europe/London
BEGIN:DAYLIGHT
TZNAME:BST
TZOFFSETFROM:+0000
TZOFFSETTO:+0100
DTSTART:19700329T010000
RRULE:FREQ=YEARLY;BYMONTH=3;BYDAY=-1SU
END:DAYLIGHT
BEGIN:STANDARD
TZNAME:GMT
TZOFFSETFROM:+0100
TZOFFSETTO:+0000
DTSTART:19701025T020000
RRULE:FREQ=YEARLY;BYMONTH=10;BYDAY=-1SU
END:STANDARD
END:VTIMEZONE
BEGIN:VEVENT
DTSTART;TZID=Europe/London:20240729T120000
DTEND;TZID=Europe/London:20240729T130000
DTSTAMP:20260423T111906Z
UID:{9F1EFF0D-5436-4D3F-AA9E62A37915EF44}
LOCATION:
SUMMARY:AMOSSHE members monthly discussion: July 2024
DESCRIPTION:On the last Monday of every month we host an online members discussion, where you can meet your AMOSSHE member colleagues to discuss current topics, raise concerns, share good practice and ask for advice or support.\n
 \n
 Event details: https://www.amosshe.org.uk/latest/event-calendar/amosshe-members-monthly-discussion-july-2024.html
PRIORITY:1
END:VEVENT
END:VCALENDAR