BEGIN:VCALENDAR
PRODID:-//Pixl8//Eventfolio//EN
VERSION:2.0
X-WR-TIMEZONE:Pacific/Auckland
CALSCALE:GREGORIAN
METHOD:PUBLISH
CLASS:PUBLIC
BEGIN:VTIMEZONE
TZID:Pacific/Auckland
LAST-MODIFIED:20260306T231828Z
TZURL:https://www.tzurl.org/zoneinfo-outlook/Pacific/Auckland
X-LIC-LOCATION:Pacific/Auckland
BEGIN:DAYLIGHT
TZNAME:NZDT
TZOFFSETFROM:+1200
TZOFFSETTO:+1300
DTSTART:19700927T020000
RRULE:FREQ=YEARLY;BYMONTH=9;BYDAY=-1SU
END:DAYLIGHT
BEGIN:STANDARD
TZNAME:NZST
TZOFFSETFROM:+1300
TZOFFSETTO:+1200
DTSTART:19700405T030000
RRULE:FREQ=YEARLY;BYMONTH=4;BYDAY=1SU
END:STANDARD
END:VTIMEZONE
BEGIN:VEVENT
DTSTART;TZID=Pacific/Auckland;VALUE=DATE:20251029
DTEND;TZID=Pacific/Auckland;VALUE=DATE:20251101
DTSTAMP:20260423T141612Z
UID:{274818D8-3DD7-4BE8-B84C18552BAA1C24}
LOCATION:Auckland\, New Zealand
SUMMARY:ANZSSA annual conference
DESCRIPTION:This ANZSSA (Australian & New Zealand Student Services Association) event provides you thought-provoking discussions to valuable networking opportunities, and the conference is designed to equip attendees with new insights, tools, and connections to elevate Student Services.\n
 \n
 Event details: https://www.amosshe.org.uk/latest/event-calendar/anzssa-annual-conference.html
PRIORITY:1
END:VEVENT
END:VCALENDAR