BEGIN:VCALENDAR
PRODID:-//Pixl8//Eventfolio//EN
VERSION:2.0
X-WR-TIMEZONE:Australia/Melbourne
CALSCALE:GREGORIAN
METHOD:PUBLISH
CLASS:PUBLIC
BEGIN:VTIMEZONE
TZID:Australia/Melbourne
LAST-MODIFIED:20260306T231828Z
TZURL:https://www.tzurl.org/zoneinfo-outlook/Australia/Melbourne
X-LIC-LOCATION:Australia/Melbourne
BEGIN:STANDARD
TZNAME:AEST
TZOFFSETFROM:+1100
TZOFFSETTO:+1000
DTSTART:19700405T030000
RRULE:FREQ=YEARLY;BYMONTH=4;BYDAY=1SU
END:STANDARD
BEGIN:DAYLIGHT
TZNAME:AEDT
TZOFFSETFROM:+1000
TZOFFSETTO:+1100
DTSTART:19701004T020000
RRULE:FREQ=YEARLY;BYMONTH=10;BYDAY=1SU
END:DAYLIGHT
END:VTIMEZONE
BEGIN:VEVENT
DTSTART;TZID=Australia/Melbourne;VALUE=DATE:20250519
DTEND;TZID=Australia/Melbourne;VALUE=DATE:20250523
DTSTAMP:20260425T231042Z
UID:{B3C7A3F2-9876-4A1B-9EBD9FF3FE37B67E}
LOCATION:Melbourne\, Australia
SUMMARY:APSAA conference 2025
DESCRIPTION:This APSAA (Asia-Pacific Student Accommodation Association) event explores the theme ‘Charting our Future - Reaching for the Stars’.\n
 \n
 Event details: https://www.amosshe.org.uk/latest/event-calendar/apsaa-conference-2025.html
PRIORITY:1
END:VEVENT
END:VCALENDAR