BEGIN:VCALENDAR
PRODID:-//Pixl8//Eventfolio//EN
VERSION:2.0
X-WR-TIMEZONE:Europe/London
CALSCALE:GREGORIAN
METHOD:PUBLISH
CLASS:PUBLIC
BEGIN:VTIMEZONE
TZID:Europe/London
LAST-MODIFIED:20260306T231828Z
TZURL:https://www.tzurl.org/zoneinfo-outlook/Europe/London
X-LIC-LOCATION:Europe/London
BEGIN:DAYLIGHT
TZNAME:BST
TZOFFSETFROM:+0000
TZOFFSETTO:+0100
DTSTART:19700329T010000
RRULE:FREQ=YEARLY;BYMONTH=3;BYDAY=-1SU
END:DAYLIGHT
BEGIN:STANDARD
TZNAME:GMT
TZOFFSETFROM:+0100
TZOFFSETTO:+0000
DTSTART:19701025T020000
RRULE:FREQ=YEARLY;BYMONTH=10;BYDAY=-1SU
END:STANDARD
END:VTIMEZONE
BEGIN:VEVENT
DTSTART;TZID=Europe/London:20250319T130000
DTEND;TZID=Europe/London:20250319T134500
DTSTAMP:20260425T185853Z
UID:{B4FBAA50-4E67-48EB-9D806E51462D7652}
LOCATION:Online
SUMMARY:Are you ready for the European Accessibility Act?
DESCRIPTION:This AbilityNet webinar helps you take a step-by-step approach to prepare for the June 2025 deadline of the European Accessibility Act.\n
 \n
 Event details: https://www.amosshe.org.uk/latest/event-calendar/are-you-ready-for-the-european-accessibility-act.html
PRIORITY:1
END:VEVENT
END:VCALENDAR