BEGIN:VCALENDAR
PRODID:-//Pixl8//Eventfolio//EN
VERSION:2.0
X-WR-TIMEZONE:Europe/London
CALSCALE:GREGORIAN
METHOD:PUBLISH
CLASS:PUBLIC
BEGIN:VTIMEZONE
TZID:Europe/London
LAST-MODIFIED:20260306T231828Z
TZURL:https://www.tzurl.org/zoneinfo-outlook/Europe/London
X-LIC-LOCATION:Europe/London
BEGIN:DAYLIGHT
TZNAME:BST
TZOFFSETFROM:+0000
TZOFFSETTO:+0100
DTSTART:19700329T010000
RRULE:FREQ=YEARLY;BYMONTH=3;BYDAY=-1SU
END:DAYLIGHT
BEGIN:STANDARD
TZNAME:GMT
TZOFFSETFROM:+0100
TZOFFSETTO:+0000
DTSTART:19701025T020000
RRULE:FREQ=YEARLY;BYMONTH=10;BYDAY=-1SU
END:STANDARD
END:VTIMEZONE
BEGIN:VEVENT
DTSTART;TZID=Europe/London:20241008T100000
DTEND;TZID=Europe/London:20241008T160000
DTSTAMP:20260423T105703Z
UID:{E463B968-1016-4089-A5433417787B8E6F}
LOCATION:London\, United Kingdom
SUMMARY:Assertiveness for women
DESCRIPTION:This Civil Service College event is for women who want to feel more confident and more assertive (not aggressive) in the workplace, to make sure that they can get their voices heard around the table, to be visible and to apply for/get the roles that they really want.\n
 \n
 Event details: https://www.amosshe.org.uk/latest/event-calendar/assertiveness-for-women.html
PRIORITY:1
END:VEVENT
END:VCALENDAR