BEGIN:VCALENDAR
PRODID:-//Pixl8//Eventfolio//EN
VERSION:2.0
X-WR-TIMEZONE:America/New_York
CALSCALE:GREGORIAN
METHOD:PUBLISH
CLASS:PUBLIC
BEGIN:VTIMEZONE
TZID:America/New_York
LAST-MODIFIED:20260306T231828Z
TZURL:https://www.tzurl.org/zoneinfo-outlook/America/New_York
X-LIC-LOCATION:America/New_York
BEGIN:DAYLIGHT
TZNAME:EDT
TZOFFSETFROM:-0500
TZOFFSETTO:-0400
DTSTART:19700308T020000
RRULE:FREQ=YEARLY;BYMONTH=3;BYDAY=2SU
END:DAYLIGHT
BEGIN:STANDARD
TZNAME:EST
TZOFFSETFROM:-0400
TZOFFSETTO:-0500
DTSTART:19701101T020000
RRULE:FREQ=YEARLY;BYMONTH=11;BYDAY=1SU
END:STANDARD
END:VTIMEZONE
BEGIN:VEVENT
DTSTART;TZID=America/New_York:20250716T150000
DTEND;TZID=America/New_York:20250716T160000
DTSTAMP:20260423T112141Z
UID:{E79D1D51-9396-44D2-8E5AA4F76755753B}
LOCATION:Online
SUMMARY:Authentic leadership: crafting your personal blueprint for leading others
DESCRIPTION:This US-based Innovative Educators event explores how self-knowledge fuels trust, enhances communication, and empowers them to inspire others while navigating change and disruption in leadership.\n
 \n
 Event details: https://www.amosshe.org.uk/latest/event-calendar/authentic-leadership-crafting-your-personal-blueprint-for-leading-others.html
PRIORITY:1
END:VEVENT
END:VCALENDAR