BEGIN:VCALENDAR
PRODID:-//Pixl8//Eventfolio//EN
VERSION:2.0
X-WR-TIMEZONE:Europe/London
CALSCALE:GREGORIAN
METHOD:PUBLISH
CLASS:PUBLIC
BEGIN:VTIMEZONE
TZID:Europe/London
LAST-MODIFIED:20260306T231828Z
TZURL:https://www.tzurl.org/zoneinfo-outlook/Europe/London
X-LIC-LOCATION:Europe/London
BEGIN:DAYLIGHT
TZNAME:BST
TZOFFSETFROM:+0000
TZOFFSETTO:+0100
DTSTART:19700329T010000
RRULE:FREQ=YEARLY;BYMONTH=3;BYDAY=-1SU
END:DAYLIGHT
BEGIN:STANDARD
TZNAME:GMT
TZOFFSETFROM:+0100
TZOFFSETTO:+0000
DTSTART:19701025T020000
RRULE:FREQ=YEARLY;BYMONTH=10;BYDAY=-1SU
END:STANDARD
END:VTIMEZONE
BEGIN:VEVENT
DTSTART;TZID=Europe/London;VALUE=DATE:20251120
DTEND;TZID=Europe/London;VALUE=DATE:20251121
DTSTAMP:20260423T111651Z
UID:{1F7D18AE-4615-4AEE-B4B869EA0A7B5C2F}
LOCATION:Online
SUMMARY:Balancing compassion with boundaries when working with students
DESCRIPTION:This Plinth House event is tailored for colleagues with academic responsibilities and suitable for all student-facing colleagues, explores tricky one-to-one interactions with students – such as discussing academic performance or delivering bad news - and provides practical ways to show compassion and respond effectively.\n
 \n
 Event details: https://www.amosshe.org.uk/latest/event-calendar/balancing-compassion-with-boundaries-when-working-with-students-1.html
PRIORITY:1
END:VEVENT
END:VCALENDAR