BEGIN:VCALENDAR
PRODID:-//Pixl8//Eventfolio//EN
VERSION:2.0
X-WR-TIMEZONE:Europe/London
CALSCALE:GREGORIAN
METHOD:PUBLISH
CLASS:PUBLIC
BEGIN:VTIMEZONE
TZID:Europe/London
LAST-MODIFIED:20260306T231828Z
TZURL:https://www.tzurl.org/zoneinfo-outlook/Europe/London
X-LIC-LOCATION:Europe/London
BEGIN:DAYLIGHT
TZNAME:BST
TZOFFSETFROM:+0000
TZOFFSETTO:+0100
DTSTART:19700329T010000
RRULE:FREQ=YEARLY;BYMONTH=3;BYDAY=-1SU
END:DAYLIGHT
BEGIN:STANDARD
TZNAME:GMT
TZOFFSETFROM:+0100
TZOFFSETTO:+0000
DTSTART:19701025T020000
RRULE:FREQ=YEARLY;BYMONTH=10;BYDAY=-1SU
END:STANDARD
END:VTIMEZONE
BEGIN:VEVENT
DTSTART;TZID=Europe/London;VALUE=DATE:20251208
DTEND;TZID=Europe/London;VALUE=DATE:20251209
DTSTAMP:20260423T111714Z
UID:{79DA7CB6-96CD-4983-BA6118F99B1DFDB2}
LOCATION:Online
SUMMARY:Budgeting for non-finance managers
DESCRIPTION:This MyPD event helps you demystify the world of financial budgeting, accounting to understand the impact of a departmental budget.\n
 \n
 Event details: https://www.amosshe.org.uk/latest/event-calendar/budgeting-for-non-finance-managers.html
PRIORITY:1
END:VEVENT
END:VCALENDAR