BEGIN:VCALENDAR
PRODID:-//Pixl8//Eventfolio//EN
VERSION:2.0
X-WR-TIMEZONE:Europe/London
CALSCALE:GREGORIAN
METHOD:PUBLISH
CLASS:PUBLIC
BEGIN:VTIMEZONE
TZID:Europe/London
LAST-MODIFIED:20260306T231828Z
TZURL:https://www.tzurl.org/zoneinfo-outlook/Europe/London
X-LIC-LOCATION:Europe/London
BEGIN:DAYLIGHT
TZNAME:BST
TZOFFSETFROM:+0000
TZOFFSETTO:+0100
DTSTART:19700329T010000
RRULE:FREQ=YEARLY;BYMONTH=3;BYDAY=-1SU
END:DAYLIGHT
BEGIN:STANDARD
TZNAME:GMT
TZOFFSETFROM:+0100
TZOFFSETTO:+0000
DTSTART:19701025T020000
RRULE:FREQ=YEARLY;BYMONTH=10;BYDAY=-1SU
END:STANDARD
END:VTIMEZONE
BEGIN:VEVENT
DTSTART;TZID=Europe/London;VALUE=DATE:20250430
DTEND;TZID=Europe/London;VALUE=DATE:20250502
DTSTAMP:20260423T142036Z
UID:{60B17F8C-F0C3-4BA6-A4A36D4720E1B948}
LOCATION:London\, United Kingdom
SUMMARY:Building a collaborative future through insight and action
DESCRIPTION:This Student Voices in Higher Education event provides a forum for higher education leaders to share stories, experiences, best practice and lessons learned from student voice initiatives.\n
 \n
 Event details: https://www.amosshe.org.uk/latest/event-calendar/building-a-collaborative-future-through-insight-and-action.html
PRIORITY:1
END:VEVENT
END:VCALENDAR