BEGIN:VCALENDAR
PRODID:-//Pixl8//Eventfolio//EN
VERSION:2.0
X-WR-TIMEZONE:America/New_York
CALSCALE:GREGORIAN
METHOD:PUBLISH
CLASS:PUBLIC
BEGIN:VTIMEZONE
TZID:America/New_York
LAST-MODIFIED:20260306T231828Z
TZURL:https://www.tzurl.org/zoneinfo-outlook/America/New_York
X-LIC-LOCATION:America/New_York
BEGIN:DAYLIGHT
TZNAME:EDT
TZOFFSETFROM:-0500
TZOFFSETTO:-0400
DTSTART:19700308T020000
RRULE:FREQ=YEARLY;BYMONTH=3;BYDAY=2SU
END:DAYLIGHT
BEGIN:STANDARD
TZNAME:EST
TZOFFSETFROM:-0400
TZOFFSETTO:-0500
DTSTART:19701101T020000
RRULE:FREQ=YEARLY;BYMONTH=11;BYDAY=1SU
END:STANDARD
END:VTIMEZONE
BEGIN:VEVENT
DTSTART;TZID=America/New_York;VALUE=DATE:20241112
DTEND;TZID=America/New_York;VALUE=DATE:20241113
DTSTAMP:20260425T185828Z
UID:{831ADB70-8656-49B7-807DC29D0E6AC946}
LOCATION:Online
SUMMARY:Building a Student Success Center
DESCRIPTION:This US-based NASPA (Student Affairs Administrators in Higher Education) event discusses collaborating with faculty and staff to support student success inside and outside the classroom.\n
 \n
 Event details: https://www.amosshe.org.uk/latest/event-calendar/building-a-student-success-center.html
PRIORITY:1
END:VEVENT
END:VCALENDAR