BEGIN:VCALENDAR
PRODID:-//Pixl8//Eventfolio//EN
VERSION:2.0
X-WR-TIMEZONE:Europe/London
CALSCALE:GREGORIAN
METHOD:PUBLISH
CLASS:PUBLIC
BEGIN:VTIMEZONE
TZID:Europe/London
LAST-MODIFIED:20260306T231828Z
TZURL:https://www.tzurl.org/zoneinfo-outlook/Europe/London
X-LIC-LOCATION:Europe/London
BEGIN:DAYLIGHT
TZNAME:BST
TZOFFSETFROM:+0000
TZOFFSETTO:+0100
DTSTART:19700329T010000
RRULE:FREQ=YEARLY;BYMONTH=3;BYDAY=-1SU
END:DAYLIGHT
BEGIN:STANDARD
TZNAME:GMT
TZOFFSETFROM:+0100
TZOFFSETTO:+0000
DTSTART:19701025T020000
RRULE:FREQ=YEARLY;BYMONTH=10;BYDAY=-1SU
END:STANDARD
END:VTIMEZONE
BEGIN:VEVENT
DTSTART;TZID=Europe/London:20241107T100000
DTEND;TZID=Europe/London:20241107T160000
DTSTAMP:20260423T141627Z
UID:{D69300FA-233F-42D4-B946209156F2DA3C}
LOCATION:London\, United Kingdom
SUMMARY:Building relations and asserting influence
DESCRIPTION:This Civil Service College event helps you develop three skills: self-awareness, secrets of understanding others, and how to ‘flex’ your style to build powerful relationships.\n
 \n
 Event details: https://www.amosshe.org.uk/latest/event-calendar/building-relations-and-asserting-influence-1.html
PRIORITY:1
END:VEVENT
END:VCALENDAR