BEGIN:VCALENDAR
PRODID:-//Pixl8//Eventfolio//EN
VERSION:2.0
X-WR-TIMEZONE:Europe/London
CALSCALE:GREGORIAN
METHOD:PUBLISH
CLASS:PUBLIC
BEGIN:VTIMEZONE
TZID:Europe/London
LAST-MODIFIED:20260306T231828Z
TZURL:https://www.tzurl.org/zoneinfo-outlook/Europe/London
X-LIC-LOCATION:Europe/London
BEGIN:DAYLIGHT
TZNAME:BST
TZOFFSETFROM:+0000
TZOFFSETTO:+0100
DTSTART:19700329T010000
RRULE:FREQ=YEARLY;BYMONTH=3;BYDAY=-1SU
END:DAYLIGHT
BEGIN:STANDARD
TZNAME:GMT
TZOFFSETFROM:+0100
TZOFFSETTO:+0000
DTSTART:19701025T020000
RRULE:FREQ=YEARLY;BYMONTH=10;BYDAY=-1SU
END:STANDARD
END:VTIMEZONE
BEGIN:VEVENT
DTSTART;TZID=Europe/London;VALUE=DATE:20240901
DTEND;TZID=Europe/London;VALUE=DATE:20240902
DTSTAMP:20260423T111105Z
UID:{23FFD583-4A1E-4EA1-BFFD01490A258D02}
LOCATION:London\, United Kingdom
SUMMARY:Building Relations & Asserting Influence
DESCRIPTION:This Civil Service College event helps you develop three skills: self-awareness, secrets of understanding others and how to ‘flex’ your style to build powerful relationships.\n
 \n
 Event details: https://www.amosshe.org.uk/latest/event-calendar/building-relations-asserting-influence.html
PRIORITY:1
END:VEVENT
END:VCALENDAR