BEGIN:VCALENDAR
PRODID:-//Pixl8//Eventfolio//EN
VERSION:2.0
X-WR-TIMEZONE:America/New_York
CALSCALE:GREGORIAN
METHOD:PUBLISH
CLASS:PUBLIC
BEGIN:VTIMEZONE
TZID:America/New_York
LAST-MODIFIED:20260306T231828Z
TZURL:https://www.tzurl.org/zoneinfo-outlook/America/New_York
X-LIC-LOCATION:America/New_York
BEGIN:DAYLIGHT
TZNAME:EDT
TZOFFSETFROM:-0500
TZOFFSETTO:-0400
DTSTART:19700308T020000
RRULE:FREQ=YEARLY;BYMONTH=3;BYDAY=2SU
END:DAYLIGHT
BEGIN:STANDARD
TZNAME:EST
TZOFFSETFROM:-0400
TZOFFSETTO:-0500
DTSTART:19701101T020000
RRULE:FREQ=YEARLY;BYMONTH=11;BYDAY=1SU
END:STANDARD
END:VTIMEZONE
BEGIN:VEVENT
DTSTART;TZID=America/New_York:20250324T110000
DTEND;TZID=America/New_York:20250324T160000
DTSTAMP:20260425T190344Z
UID:{5841E2C7-A5EC-4181-B268C2BE643BDDAD}
LOCATION:Online
SUMMARY:Cannabis and opioid prevention summit
DESCRIPTION:This US-based NASPA (Student Affairs Administrators in Higher Education) event equips you with targeted strategies to address cannabis and opioid misuse on college campuses.\n
 \n
 Event details: https://www.amosshe.org.uk/latest/event-calendar/cannabis-and-opioid-prevention-summit.html
PRIORITY:1
END:VEVENT
END:VCALENDAR