BEGIN:VCALENDAR
PRODID:-//Pixl8//Eventfolio//EN
VERSION:2.0
X-WR-TIMEZONE:America/New_York
CALSCALE:GREGORIAN
METHOD:PUBLISH
CLASS:PUBLIC
BEGIN:VTIMEZONE
TZID:America/New_York
LAST-MODIFIED:20260306T231828Z
TZURL:https://www.tzurl.org/zoneinfo-outlook/America/New_York
X-LIC-LOCATION:America/New_York
BEGIN:DAYLIGHT
TZNAME:EDT
TZOFFSETFROM:-0500
TZOFFSETTO:-0400
DTSTART:19700308T020000
RRULE:FREQ=YEARLY;BYMONTH=3;BYDAY=2SU
END:DAYLIGHT
BEGIN:STANDARD
TZNAME:EST
TZOFFSETFROM:-0400
TZOFFSETTO:-0500
DTSTART:19701101T020000
RRULE:FREQ=YEARLY;BYMONTH=11;BYDAY=1SU
END:STANDARD
END:VTIMEZONE
BEGIN:VEVENT
DTSTART;TZID=America/New_York;VALUE=DATE:20251113
DTEND;TZID=America/New_York;VALUE=DATE:20251114
DTSTAMP:20260425T190006Z
UID:{D0F930DF-79E0-4C90-BC48C36F96D1E6E7}
LOCATION:Online
SUMMARY:Career champions: training faculty & staff to support career conversations
DESCRIPTION:This US-based Innovative Educators event uncovers how to design and launch a career champion initiative that fosters confidence and guides students toward meaningful career goals.\n
 \n
 Event details: https://www.amosshe.org.uk/latest/event-calendar/career-champions-training-faculty-staff-to-support-career-conversations.html
PRIORITY:1
END:VEVENT
END:VCALENDAR