BEGIN:VCALENDAR
PRODID:-//Pixl8//Eventfolio//EN
VERSION:2.0
X-WR-TIMEZONE:Europe/London
CALSCALE:GREGORIAN
METHOD:PUBLISH
CLASS:PUBLIC
BEGIN:VTIMEZONE
TZID:Europe/London
LAST-MODIFIED:20260306T231828Z
TZURL:https://www.tzurl.org/zoneinfo-outlook/Europe/London
X-LIC-LOCATION:Europe/London
BEGIN:DAYLIGHT
TZNAME:BST
TZOFFSETFROM:+0000
TZOFFSETTO:+0100
DTSTART:19700329T010000
RRULE:FREQ=YEARLY;BYMONTH=3;BYDAY=-1SU
END:DAYLIGHT
BEGIN:STANDARD
TZNAME:GMT
TZOFFSETFROM:+0100
TZOFFSETTO:+0000
DTSTART:19701025T020000
RRULE:FREQ=YEARLY;BYMONTH=10;BYDAY=-1SU
END:STANDARD
END:VTIMEZONE
BEGIN:VEVENT
DTSTART;TZID=Europe/London:20240912T100000
DTEND;TZID=Europe/London:20240912T160000
DTSTAMP:20260423T111229Z
UID:{2BFBDAD6-5CAE-483D-B3D54EF1E06ABCAC}
LOCATION:London\, United Kingdom
SUMMARY:Career transition
DESCRIPTION:This Civil Service College event equips you with career transition skills, knowledge, networks and encouragement to allow you to take a proactive stance in their present and future career.\n
 \n
 Event details: https://www.amosshe.org.uk/latest/event-calendar/career-transition.html
PRIORITY:1
END:VEVENT
END:VCALENDAR