BEGIN:VCALENDAR
PRODID:-//Pixl8//Eventfolio//EN
VERSION:2.0
X-WR-TIMEZONE:Europe/London
CALSCALE:GREGORIAN
METHOD:PUBLISH
CLASS:PUBLIC
BEGIN:VTIMEZONE
TZID:Europe/London
LAST-MODIFIED:20260306T231828Z
TZURL:https://www.tzurl.org/zoneinfo-outlook/Europe/London
X-LIC-LOCATION:Europe/London
BEGIN:DAYLIGHT
TZNAME:BST
TZOFFSETFROM:+0000
TZOFFSETTO:+0100
DTSTART:19700329T010000
RRULE:FREQ=YEARLY;BYMONTH=3;BYDAY=-1SU
END:DAYLIGHT
BEGIN:STANDARD
TZNAME:GMT
TZOFFSETFROM:+0100
TZOFFSETTO:+0000
DTSTART:19701025T020000
RRULE:FREQ=YEARLY;BYMONTH=10;BYDAY=-1SU
END:STANDARD
END:VTIMEZONE
BEGIN:VEVENT
DTSTART;TZID=Europe/London;VALUE=DATE:20241204
DTEND;TZID=Europe/London;VALUE=DATE:20241205
DTSTAMP:20260423T110818Z
UID:{C302DB10-D6F9-4F36-AB6030ACED8116F3}
LOCATION:
SUMMARY:Casual and term time working models – practical and legal issues
DESCRIPTION:This Eversheds Sutherland event shares the rules around requesting flexible working and requesting more predictable and stable contract.\n
 \n
 Event details: https://www.amosshe.org.uk/latest/event-calendar/casual-and-term-time-working-models-practical-and-legal-issues.html
PRIORITY:1
END:VEVENT
END:VCALENDAR