BEGIN:VCALENDAR
PRODID:-//Pixl8//Eventfolio//EN
VERSION:2.0
X-WR-TIMEZONE:Europe/London
CALSCALE:GREGORIAN
METHOD:PUBLISH
CLASS:PUBLIC
BEGIN:VTIMEZONE
TZID:Europe/London
LAST-MODIFIED:20260306T231828Z
TZURL:https://www.tzurl.org/zoneinfo-outlook/Europe/London
X-LIC-LOCATION:Europe/London
BEGIN:DAYLIGHT
TZNAME:BST
TZOFFSETFROM:+0000
TZOFFSETTO:+0100
DTSTART:19700329T010000
RRULE:FREQ=YEARLY;BYMONTH=3;BYDAY=-1SU
END:DAYLIGHT
BEGIN:STANDARD
TZNAME:GMT
TZOFFSETFROM:+0100
TZOFFSETTO:+0000
DTSTART:19701025T020000
RRULE:FREQ=YEARLY;BYMONTH=10;BYDAY=-1SU
END:STANDARD
END:VTIMEZONE
BEGIN:VEVENT
DTSTART;TZID=Europe/London:20250326T130000
DTEND;TZID=Europe/London:20250326T140000
DTSTAMP:20260423T142049Z
UID:{FC4BEB4D-59C1-4CAA-8BDE0F61D043DB6C}
LOCATION:Online
SUMMARY:Chaos to clean: sharing practices on student move out
DESCRIPTION:This UKTGA (United Kingdom Town & Gown Association) webinar explores how Manchester Student Homes, Manchester City Council and Liverpool Students’ Guild are revolutionising student move-outs with creative and sustainable practices.\n
 \n
 Event details: https://www.amosshe.org.uk/latest/event-calendar/chaos-to-clean-sharing-practices-on-student-move-out.html
PRIORITY:1
END:VEVENT
END:VCALENDAR