BEGIN:VCALENDAR
PRODID:-//Pixl8//Eventfolio//EN
VERSION:2.0
X-WR-TIMEZONE:Europe/London
CALSCALE:GREGORIAN
METHOD:PUBLISH
CLASS:PUBLIC
BEGIN:VTIMEZONE
TZID:Europe/London
LAST-MODIFIED:20260306T231828Z
TZURL:https://www.tzurl.org/zoneinfo-outlook/Europe/London
X-LIC-LOCATION:Europe/London
BEGIN:DAYLIGHT
TZNAME:BST
TZOFFSETFROM:+0000
TZOFFSETTO:+0100
DTSTART:19700329T010000
RRULE:FREQ=YEARLY;BYMONTH=3;BYDAY=-1SU
END:DAYLIGHT
BEGIN:STANDARD
TZNAME:GMT
TZOFFSETFROM:+0100
TZOFFSETTO:+0000
DTSTART:19701025T020000
RRULE:FREQ=YEARLY;BYMONTH=10;BYDAY=-1SU
END:STANDARD
END:VTIMEZONE
BEGIN:VEVENT
DTSTART;TZID=Europe/London;VALUE=DATE:20260128
DTEND;TZID=Europe/London;VALUE=DATE:20260129
DTSTAMP:20260423T141910Z
UID:{8D7AE081-6F22-4011-A40DDF63914C8EB7}
LOCATION:Online
SUMMARY:Co-creation: tapping into the student voice
DESCRIPTION:This free Times Higher Education event discusses how university educators can invite and draw on student perspectives and ideas to create meaningful experience and engagement.\n
 \n
 Event details: https://www.amosshe.org.uk/latest/event-calendar/co-creation-tapping-into-the-student-voice.html
PRIORITY:1
END:VEVENT
END:VCALENDAR