BEGIN:VCALENDAR
PRODID:-//Pixl8//Eventfolio//EN
VERSION:2.0
X-WR-TIMEZONE:Europe/London
CALSCALE:GREGORIAN
METHOD:PUBLISH
CLASS:PUBLIC
BEGIN:VTIMEZONE
TZID:Europe/London
LAST-MODIFIED:20260306T231828Z
TZURL:https://www.tzurl.org/zoneinfo-outlook/Europe/London
X-LIC-LOCATION:Europe/London
BEGIN:DAYLIGHT
TZNAME:BST
TZOFFSETFROM:+0000
TZOFFSETTO:+0100
DTSTART:19700329T010000
RRULE:FREQ=YEARLY;BYMONTH=3;BYDAY=-1SU
END:DAYLIGHT
BEGIN:STANDARD
TZNAME:GMT
TZOFFSETFROM:+0100
TZOFFSETTO:+0000
DTSTART:19701025T020000
RRULE:FREQ=YEARLY;BYMONTH=10;BYDAY=-1SU
END:STANDARD
END:VTIMEZONE
BEGIN:VEVENT
DTSTART;TZID=Europe/London:20241202T100000
DTEND;TZID=Europe/London:20241202T160000
DTSTAMP:20260425T162803Z
UID:{E08DCDB6-F039-41BD-A8CF5BB400603E9D}
LOCATION:London\, United Kingdom
SUMMARY:Coaching and mentoring skills for leaders
DESCRIPTION:This Civil Service College event demonstrates the benefits of effective coaching leadership within organisations, providing the foundation to understand the value and positive outcomes of a coaching and mentoring structure.\n
 \n
 Event details: https://www.amosshe.org.uk/latest/event-calendar/coaching-and-mentoring-skills-for-leaders.html
PRIORITY:1
END:VEVENT
END:VCALENDAR