BEGIN:VCALENDAR
PRODID:-//Pixl8//Eventfolio//EN
VERSION:2.0
X-WR-TIMEZONE:Europe/London
CALSCALE:GREGORIAN
METHOD:PUBLISH
CLASS:PUBLIC
BEGIN:VTIMEZONE
TZID:Europe/London
LAST-MODIFIED:20260306T231828Z
TZURL:https://www.tzurl.org/zoneinfo-outlook/Europe/London
X-LIC-LOCATION:Europe/London
BEGIN:DAYLIGHT
TZNAME:BST
TZOFFSETFROM:+0000
TZOFFSETTO:+0100
DTSTART:19700329T010000
RRULE:FREQ=YEARLY;BYMONTH=3;BYDAY=-1SU
END:DAYLIGHT
BEGIN:STANDARD
TZNAME:GMT
TZOFFSETFROM:+0100
TZOFFSETTO:+0000
DTSTART:19701025T020000
RRULE:FREQ=YEARLY;BYMONTH=10;BYDAY=-1SU
END:STANDARD
END:VTIMEZONE
BEGIN:VEVENT
DTSTART;TZID=Europe/London;VALUE=DATE:20250618
DTEND;TZID=Europe/London;VALUE=DATE:20250621
DTSTAMP:20260423T141408Z
UID:{3796A539-B925-4B5B-AD86D441C846C1E3}
LOCATION:Cork\, Republic of Ireland
SUMMARY:Collaborate 2025
DESCRIPTION:This EucA (European university college Association) and NASPA (National Association of Student Personnel Administrators) event aims to leverage diverse perspectives and best practices from across the world to address shared challenges in student support, services, and engagement.\n
 \n
 Event details: https://www.amosshe.org.uk/latest/event-calendar/collaborate-2025.html
PRIORITY:1
END:VEVENT
END:VCALENDAR