BEGIN:VCALENDAR
PRODID:-//Pixl8//Eventfolio//EN
VERSION:2.0
X-WR-TIMEZONE:Europe/London
CALSCALE:GREGORIAN
METHOD:PUBLISH
CLASS:PUBLIC
BEGIN:VTIMEZONE
TZID:Europe/London
LAST-MODIFIED:20260306T231828Z
TZURL:https://www.tzurl.org/zoneinfo-outlook/Europe/London
X-LIC-LOCATION:Europe/London
BEGIN:DAYLIGHT
TZNAME:BST
TZOFFSETFROM:+0000
TZOFFSETTO:+0100
DTSTART:19700329T010000
RRULE:FREQ=YEARLY;BYMONTH=3;BYDAY=-1SU
END:DAYLIGHT
BEGIN:STANDARD
TZNAME:GMT
TZOFFSETFROM:+0100
TZOFFSETTO:+0000
DTSTART:19701025T020000
RRULE:FREQ=YEARLY;BYMONTH=10;BYDAY=-1SU
END:STANDARD
END:VTIMEZONE
BEGIN:VEVENT
DTSTART;TZID=Europe/London;VALUE=DATE:20240917
DTEND;TZID=Europe/London;VALUE=DATE:20240918
DTSTAMP:20260423T162427Z
UID:{0FA693C4-7CD4-46F2-BDB26A89DFEDBA1C}
LOCATION:Online
SUMMARY:Complaints resolution and meditation
DESCRIPTION:This Healthcare Conferences UK event is for anybody who deals with complaints as part of their job role, or anybody who may have to handle a complaint, including dedicated complaints teams and customer support teams and managers.\n
 \n
 Event details: https://www.amosshe.org.uk/latest/event-calendar/complaints-resolution-and-meditation.html
PRIORITY:1
END:VEVENT
END:VCALENDAR