BEGIN:VCALENDAR
PRODID:-//Pixl8//Eventfolio//EN
VERSION:2.0
X-WR-TIMEZONE:America/New_York
CALSCALE:GREGORIAN
METHOD:PUBLISH
CLASS:PUBLIC
BEGIN:VTIMEZONE
TZID:America/New_York
LAST-MODIFIED:20260306T231828Z
TZURL:https://www.tzurl.org/zoneinfo-outlook/America/New_York
X-LIC-LOCATION:America/New_York
BEGIN:DAYLIGHT
TZNAME:EDT
TZOFFSETFROM:-0500
TZOFFSETTO:-0400
DTSTART:19700308T020000
RRULE:FREQ=YEARLY;BYMONTH=3;BYDAY=2SU
END:DAYLIGHT
BEGIN:STANDARD
TZNAME:EST
TZOFFSETFROM:-0400
TZOFFSETTO:-0500
DTSTART:19701101T020000
RRULE:FREQ=YEARLY;BYMONTH=11;BYDAY=1SU
END:STANDARD
END:VTIMEZONE
BEGIN:VEVENT
DTSTART;TZID=America/New_York;VALUE=DATE:20250114
DTEND;TZID=America/New_York;VALUE=DATE:20250115
DTSTAMP:20260423T142110Z
UID:{62000889-691D-407E-AD4918168D83B3FB}
LOCATION:Online
SUMMARY:Conflict management among co-workers: difficult conversations & resolution strategies
DESCRIPTION:This US-based Innovative Educator event addresses the nature of difficult conversations, the core strategies needed to work through them, and how to teach these to your staff both before and when conflict arises.\n
 \n
 Event details: https://www.amosshe.org.uk/latest/event-calendar/conflict-management-among-co-workers-difficult-conversations-resolution-strategies.html
PRIORITY:1
END:VEVENT
END:VCALENDAR