BEGIN:VCALENDAR
PRODID:-//Pixl8//Eventfolio//EN
VERSION:2.0
X-WR-TIMEZONE:Europe/London
CALSCALE:GREGORIAN
METHOD:PUBLISH
CLASS:PUBLIC
BEGIN:VTIMEZONE
TZID:Europe/London
LAST-MODIFIED:20260306T231828Z
TZURL:https://www.tzurl.org/zoneinfo-outlook/Europe/London
X-LIC-LOCATION:Europe/London
BEGIN:DAYLIGHT
TZNAME:BST
TZOFFSETFROM:+0000
TZOFFSETTO:+0100
DTSTART:19700329T010000
RRULE:FREQ=YEARLY;BYMONTH=3;BYDAY=-1SU
END:DAYLIGHT
BEGIN:STANDARD
TZNAME:GMT
TZOFFSETFROM:+0100
TZOFFSETTO:+0000
DTSTART:19701025T020000
RRULE:FREQ=YEARLY;BYMONTH=10;BYDAY=-1SU
END:STANDARD
END:VTIMEZONE
BEGIN:VEVENT
DTSTART;TZID=Europe/London;VALUE=DATE:20260430
DTEND;TZID=Europe/London;VALUE=DATE:20260501
DTSTAMP:20260421T103903Z
UID:{1454A278-BF11-4DFB-84C4BFCAACBD1C05}
LOCATION:Sheffield\, United Kingdom
SUMMARY:Confronting workplace sexual harassment in the post #MeToo era
DESCRIPTION:This free the 1752 group event aims to develop a shared vision and strategy to address workplace harassment in the UK. \n
 \n
 Event details: https://www.amosshe.org.uk/latest/event-calendar/confronting-workplace-sexual-harassment-in-the-post-metoo-era.html
PRIORITY:1
END:VEVENT
END:VCALENDAR