BEGIN:VCALENDAR
PRODID:-//Pixl8//Eventfolio//EN
VERSION:2.0
X-WR-TIMEZONE:Europe/London
CALSCALE:GREGORIAN
METHOD:PUBLISH
CLASS:PUBLIC
BEGIN:VTIMEZONE
TZID:Europe/London
LAST-MODIFIED:20260306T231828Z
TZURL:https://www.tzurl.org/zoneinfo-outlook/Europe/London
X-LIC-LOCATION:Europe/London
BEGIN:DAYLIGHT
TZNAME:BST
TZOFFSETFROM:+0000
TZOFFSETTO:+0100
DTSTART:19700329T010000
RRULE:FREQ=YEARLY;BYMONTH=3;BYDAY=-1SU
END:DAYLIGHT
BEGIN:STANDARD
TZNAME:GMT
TZOFFSETFROM:+0100
TZOFFSETTO:+0000
DTSTART:19701025T020000
RRULE:FREQ=YEARLY;BYMONTH=10;BYDAY=-1SU
END:STANDARD
END:VTIMEZONE
BEGIN:VEVENT
DTSTART;TZID=Europe/London;VALUE=DATE:20250115
DTEND;TZID=Europe/London;VALUE=DATE:20250116
DTSTAMP:20260425T163228Z
UID:{5EE7AF4E-5D29-43D4-9793E958773F6310}
LOCATION:Online
SUMMARY:County lines: drugs, exploitation and greed
DESCRIPTION:This Drugs Training event explores how ‘county lines’ operate, indicators of involvement and how to report your concerns.\n
 \n
 Event details: https://www.amosshe.org.uk/latest/event-calendar/county-lines-drugs-exploitation-and-greed.html
PRIORITY:1
END:VEVENT
END:VCALENDAR