BEGIN:VCALENDAR
PRODID:-//Pixl8//Eventfolio//EN
VERSION:2.0
X-WR-TIMEZONE:America/New_York
CALSCALE:GREGORIAN
METHOD:PUBLISH
CLASS:PUBLIC
BEGIN:VTIMEZONE
TZID:America/New_York
LAST-MODIFIED:20260306T231828Z
TZURL:https://www.tzurl.org/zoneinfo-outlook/America/New_York
X-LIC-LOCATION:America/New_York
BEGIN:DAYLIGHT
TZNAME:EDT
TZOFFSETFROM:-0500
TZOFFSETTO:-0400
DTSTART:19700308T020000
RRULE:FREQ=YEARLY;BYMONTH=3;BYDAY=2SU
END:DAYLIGHT
BEGIN:STANDARD
TZNAME:EST
TZOFFSETFROM:-0400
TZOFFSETTO:-0500
DTSTART:19701101T020000
RRULE:FREQ=YEARLY;BYMONTH=11;BYDAY=1SU
END:STANDARD
END:VTIMEZONE
BEGIN:VEVENT
DTSTART;TZID=America/New_York;VALUE=DATE:20241114
DTEND;TZID=America/New_York;VALUE=DATE:20241115
DTSTAMP:20260423T112014Z
UID:{A0675241-1BE3-46BA-9BBE6786A6BA489F}
LOCATION:Online
SUMMARY:Crafting AI prompts to generate precise, high-quality responses
DESCRIPTION:This US-based Innovative Educators event helps you unlock the potential of AI through Prompt Engineering. This hands-on session is ideal for professionals at all skill levels—whether you’re completely new to AI or looking to refine your expertise.\n
 \n
 Event details: https://www.amosshe.org.uk/latest/event-calendar/crafting-ai-prompts-to-generate-precise-high-quality-responses.html
PRIORITY:1
END:VEVENT
END:VCALENDAR