BEGIN:VCALENDAR
PRODID:-//Pixl8//Eventfolio//EN
VERSION:2.0
X-WR-TIMEZONE:Europe/London
CALSCALE:GREGORIAN
METHOD:PUBLISH
CLASS:PUBLIC
BEGIN:VTIMEZONE
TZID:Europe/London
LAST-MODIFIED:20260306T231828Z
TZURL:https://www.tzurl.org/zoneinfo-outlook/Europe/London
X-LIC-LOCATION:Europe/London
BEGIN:DAYLIGHT
TZNAME:BST
TZOFFSETFROM:+0000
TZOFFSETTO:+0100
DTSTART:19700329T010000
RRULE:FREQ=YEARLY;BYMONTH=3;BYDAY=-1SU
END:DAYLIGHT
BEGIN:STANDARD
TZNAME:GMT
TZOFFSETFROM:+0100
TZOFFSETTO:+0000
DTSTART:19701025T020000
RRULE:FREQ=YEARLY;BYMONTH=10;BYDAY=-1SU
END:STANDARD
END:VTIMEZONE
BEGIN:VEVENT
DTSTART;TZID=Europe/London;VALUE=DATE:20251106
DTEND;TZID=Europe/London;VALUE=DATE:20251107
DTSTAMP:20260425T163227Z
UID:{9F8E206A-4082-421F-9A7D3707BE04D0E9}
LOCATION:Online
SUMMARY:CREATE toolkit – a whole university approach to mental health
DESCRIPTION:This free Charlie Waller Trust event is for university staff who are interested in developing a whole institution approach to supporting better mental health and wellbeing for students and staff.\n
 \n
 Event details: https://www.amosshe.org.uk/latest/event-calendar/create-toolkit-a-whole-university-approach-to-mental-health.html
PRIORITY:1
END:VEVENT
END:VCALENDAR