BEGIN:VCALENDAR
PRODID:-//Pixl8//Eventfolio//EN
VERSION:2.0
X-WR-TIMEZONE:America/New_York
CALSCALE:GREGORIAN
METHOD:PUBLISH
CLASS:PUBLIC
BEGIN:VTIMEZONE
TZID:America/New_York
LAST-MODIFIED:20260306T231828Z
TZURL:https://www.tzurl.org/zoneinfo-outlook/America/New_York
X-LIC-LOCATION:America/New_York
BEGIN:DAYLIGHT
TZNAME:EDT
TZOFFSETFROM:-0500
TZOFFSETTO:-0400
DTSTART:19700308T020000
RRULE:FREQ=YEARLY;BYMONTH=3;BYDAY=2SU
END:DAYLIGHT
BEGIN:STANDARD
TZNAME:EST
TZOFFSETFROM:-0400
TZOFFSETTO:-0500
DTSTART:19701101T020000
RRULE:FREQ=YEARLY;BYMONTH=11;BYDAY=1SU
END:STANDARD
END:VTIMEZONE
BEGIN:VEVENT
DTSTART;TZID=America/New_York;VALUE=DATE:20250211
DTEND;TZID=America/New_York;VALUE=DATE:20250212
DTSTAMP:20260423T110209Z
UID:{B6CFCCCC-1691-4266-B5E6B6902E142C60}
LOCATION:Online
SUMMARY:Crisis and de-escalation training
DESCRIPTION:This US-based PaperClip Communications helps you identify early warning signs to intervene and support students in distress.\n
 \n
 Event details: https://www.amosshe.org.uk/latest/event-calendar/crisis-and-de-escalation-training.html
PRIORITY:1
END:VEVENT
END:VCALENDAR