BEGIN:VCALENDAR
PRODID:-//Pixl8//Eventfolio//EN
VERSION:2.0
X-WR-TIMEZONE:Europe/London
CALSCALE:GREGORIAN
METHOD:PUBLISH
CLASS:PUBLIC
BEGIN:VTIMEZONE
TZID:Europe/London
LAST-MODIFIED:20260306T231828Z
TZURL:https://www.tzurl.org/zoneinfo-outlook/Europe/London
X-LIC-LOCATION:Europe/London
BEGIN:DAYLIGHT
TZNAME:BST
TZOFFSETFROM:+0000
TZOFFSETTO:+0100
DTSTART:19700329T010000
RRULE:FREQ=YEARLY;BYMONTH=3;BYDAY=-1SU
END:DAYLIGHT
BEGIN:STANDARD
TZNAME:GMT
TZOFFSETFROM:+0100
TZOFFSETTO:+0000
DTSTART:19701025T020000
RRULE:FREQ=YEARLY;BYMONTH=10;BYDAY=-1SU
END:STANDARD
END:VTIMEZONE
BEGIN:VEVENT
DTSTART;TZID=Europe/London;VALUE=DATE:20250218
DTEND;TZID=Europe/London;VALUE=DATE:20250219
DTSTAMP:20260423T142324Z
UID:{748C1AED-BEE6-4C68-93D2F5D8D1F4A46E}
LOCATION:Online
SUMMARY:Crisis communications planning: protecting your organisation reputation
DESCRIPTION:This Government Events event helps you know how to prepare for the worst, but also helps you stop an issue becoming a crisis. Explore good and bad practice with reference to past and current examples.\n
 \n
 Event details: https://www.amosshe.org.uk/latest/event-calendar/crisis-communications-planning-protecting-your-organisation-reputation-2.html
PRIORITY:1
END:VEVENT
END:VCALENDAR