BEGIN:VCALENDAR
PRODID:-//Pixl8//Eventfolio//EN
VERSION:2.0
X-WR-TIMEZONE:America/New_York
CALSCALE:GREGORIAN
METHOD:PUBLISH
CLASS:PUBLIC
BEGIN:VTIMEZONE
TZID:America/New_York
LAST-MODIFIED:20260306T231828Z
TZURL:https://www.tzurl.org/zoneinfo-outlook/America/New_York
X-LIC-LOCATION:America/New_York
BEGIN:DAYLIGHT
TZNAME:EDT
TZOFFSETFROM:-0500
TZOFFSETTO:-0400
DTSTART:19700308T020000
RRULE:FREQ=YEARLY;BYMONTH=3;BYDAY=2SU
END:DAYLIGHT
BEGIN:STANDARD
TZNAME:EST
TZOFFSETFROM:-0400
TZOFFSETTO:-0500
DTSTART:19701101T020000
RRULE:FREQ=YEARLY;BYMONTH=11;BYDAY=1SU
END:STANDARD
END:VTIMEZONE
BEGIN:VEVENT
DTSTART;TZID=America/New_York:20241205T140000
DTEND;TZID=America/New_York:20241205T153000
DTSTAMP:20260423T141408Z
UID:{583F6F11-E8CB-4FEC-9B46D3ECB646CA0A}
LOCATION:Online
SUMMARY:Crisis management
DESCRIPTION:This US-based PaperClip Communications event shares compliance and liability case studies for creating a seamless approach to preparedness and response protocols.\n
 \n
 Event details: https://www.amosshe.org.uk/latest/event-calendar/crisis-management.html
PRIORITY:1
END:VEVENT
END:VCALENDAR