BEGIN:VCALENDAR
PRODID:-//Pixl8//Eventfolio//EN
VERSION:2.0
X-WR-TIMEZONE:Europe/London
CALSCALE:GREGORIAN
METHOD:PUBLISH
CLASS:PUBLIC
BEGIN:VTIMEZONE
TZID:Europe/London
LAST-MODIFIED:20260306T231828Z
TZURL:https://www.tzurl.org/zoneinfo-outlook/Europe/London
X-LIC-LOCATION:Europe/London
BEGIN:DAYLIGHT
TZNAME:BST
TZOFFSETFROM:+0000
TZOFFSETTO:+0100
DTSTART:19700329T010000
RRULE:FREQ=YEARLY;BYMONTH=3;BYDAY=-1SU
END:DAYLIGHT
BEGIN:STANDARD
TZNAME:GMT
TZOFFSETFROM:+0100
TZOFFSETTO:+0000
DTSTART:19701025T020000
RRULE:FREQ=YEARLY;BYMONTH=10;BYDAY=-1SU
END:STANDARD
END:VTIMEZONE
BEGIN:VEVENT
DTSTART;TZID=Europe/London:20250514T110000
DTEND;TZID=Europe/London:20250514T120000
DTSTAMP:20260425T200816Z
UID:{2C5E93F9-E1DA-4155-BE00A96E34340A4B}
LOCATION:Online
SUMMARY: Cultivating a growth mindset: unlocking potential through effort and resilience
DESCRIPTION:This Impact Factory event explores how adopting a growth mindset can unlock greater potential, increase learning outcomes and build resilience when facing challenges.\n
 \n
 Event details: https://www.amosshe.org.uk/latest/event-calendar/cultivating-a-growth-mindset-unlocking-potential-through-effort-and-resilience.html
PRIORITY:1
END:VEVENT
END:VCALENDAR