BEGIN:VCALENDAR
PRODID:-//Pixl8//Eventfolio//EN
VERSION:2.0
X-WR-TIMEZONE:Europe/London
CALSCALE:GREGORIAN
METHOD:PUBLISH
CLASS:PUBLIC
BEGIN:VTIMEZONE
TZID:Europe/London
LAST-MODIFIED:20260306T231828Z
TZURL:https://www.tzurl.org/zoneinfo-outlook/Europe/London
X-LIC-LOCATION:Europe/London
BEGIN:DAYLIGHT
TZNAME:BST
TZOFFSETFROM:+0000
TZOFFSETTO:+0100
DTSTART:19700329T010000
RRULE:FREQ=YEARLY;BYMONTH=3;BYDAY=-1SU
END:DAYLIGHT
BEGIN:STANDARD
TZNAME:GMT
TZOFFSETFROM:+0100
TZOFFSETTO:+0000
DTSTART:19701025T020000
RRULE:FREQ=YEARLY;BYMONTH=10;BYDAY=-1SU
END:STANDARD
END:VTIMEZONE
BEGIN:VEVENT
DTSTART;TZID=Europe/London;VALUE=DATE:20241210
DTEND;TZID=Europe/London;VALUE=DATE:20241211
DTSTAMP:20260423T211526Z
UID:{2ECF8803-C869-4C9C-B06E81C14A327995}
LOCATION:Leeds\, United Kingdom
SUMMARY:Dealing with disgruntled tenants: conflict management in student accommodation
DESCRIPTION:This Unipol event explores how to identify and resolve conflict when it arises can strengthen the workplace relationships between colleagues, reducing stress and creating a supportive environment.\n
 \n
 Event details: https://www.amosshe.org.uk/latest/event-calendar/dealing-with-disgruntled-tenants-conflict-management-in-student-accommodation.html
PRIORITY:1
END:VEVENT
END:VCALENDAR