BEGIN:VCALENDAR
PRODID:-//Pixl8//Eventfolio//EN
VERSION:2.0
X-WR-TIMEZONE:Europe/London
CALSCALE:GREGORIAN
METHOD:PUBLISH
CLASS:PUBLIC
BEGIN:VTIMEZONE
TZID:Europe/London
LAST-MODIFIED:20260306T231828Z
TZURL:https://www.tzurl.org/zoneinfo-outlook/Europe/London
X-LIC-LOCATION:Europe/London
BEGIN:DAYLIGHT
TZNAME:BST
TZOFFSETFROM:+0000
TZOFFSETTO:+0100
DTSTART:19700329T010000
RRULE:FREQ=YEARLY;BYMONTH=3;BYDAY=-1SU
END:DAYLIGHT
BEGIN:STANDARD
TZNAME:GMT
TZOFFSETFROM:+0100
TZOFFSETTO:+0000
DTSTART:19701025T020000
RRULE:FREQ=YEARLY;BYMONTH=10;BYDAY=-1SU
END:STANDARD
END:VTIMEZONE
BEGIN:VEVENT
DTSTART;TZID=Europe/London;VALUE=DATE:20241206
DTEND;TZID=Europe/London;VALUE=DATE:20241207
DTSTAMP:20260423T141738Z
UID:{DCDE402E-E2CD-45E3-9579A061698002A2}
LOCATION:Online
SUMMARY:Dealing with drink: supporting those with alcohol dependency
DESCRIPTION:This Drugs Training event provides a comprehensive overview of the issues relating to alcohol problems.\n
 \n
 Event details: https://www.amosshe.org.uk/latest/event-calendar/dealing-with-drink-supporting-those-with-alcohol-dependency.html
PRIORITY:1
END:VEVENT
END:VCALENDAR