BEGIN:VCALENDAR
PRODID:-//Pixl8//Eventfolio//EN
VERSION:2.0
X-WR-TIMEZONE:Europe/London
CALSCALE:GREGORIAN
METHOD:PUBLISH
CLASS:PUBLIC
BEGIN:VTIMEZONE
TZID:Europe/London
LAST-MODIFIED:20260306T231828Z
TZURL:https://www.tzurl.org/zoneinfo-outlook/Europe/London
X-LIC-LOCATION:Europe/London
BEGIN:DAYLIGHT
TZNAME:BST
TZOFFSETFROM:+0000
TZOFFSETTO:+0100
DTSTART:19700329T010000
RRULE:FREQ=YEARLY;BYMONTH=3;BYDAY=-1SU
END:DAYLIGHT
BEGIN:STANDARD
TZNAME:GMT
TZOFFSETFROM:+0100
TZOFFSETTO:+0000
DTSTART:19701025T020000
RRULE:FREQ=YEARLY;BYMONTH=10;BYDAY=-1SU
END:STANDARD
END:VTIMEZONE
BEGIN:VEVENT
DTSTART;TZID=Europe/London:20241217T103000
DTEND;TZID=Europe/London:20241217T111500
DTSTAMP:20260425T200439Z
UID:{7DAE94B4-41F5-4B2B-8ABB4C6FE01A1B5E}
LOCATION:Online
SUMMARY:Developing theories of change for whole provider approaches
DESCRIPTION:This free TASO (Transforming Access and Student Outcomes in Higher Education) event provides detailed insights into their most recent invitation to tender project and share how you can get involved in creating a theory of change for your whole provider approach to reduce risks to equality of opportunity in higher education.\n
 \n
 Event details: https://www.amosshe.org.uk/latest/event-calendar/developing-theories-of-change-for-whole-provider-approaches.html
PRIORITY:1
END:VEVENT
END:VCALENDAR