BEGIN:VCALENDAR
PRODID:-//Pixl8//Eventfolio//EN
VERSION:2.0
X-WR-TIMEZONE:Europe/London
CALSCALE:GREGORIAN
METHOD:PUBLISH
CLASS:PUBLIC
BEGIN:VTIMEZONE
TZID:Europe/London
LAST-MODIFIED:20260306T231828Z
TZURL:https://www.tzurl.org/zoneinfo-outlook/Europe/London
X-LIC-LOCATION:Europe/London
BEGIN:DAYLIGHT
TZNAME:BST
TZOFFSETFROM:+0000
TZOFFSETTO:+0100
DTSTART:19700329T010000
RRULE:FREQ=YEARLY;BYMONTH=3;BYDAY=-1SU
END:DAYLIGHT
BEGIN:STANDARD
TZNAME:GMT
TZOFFSETFROM:+0100
TZOFFSETTO:+0000
DTSTART:19701025T020000
RRULE:FREQ=YEARLY;BYMONTH=10;BYDAY=-1SU
END:STANDARD
END:VTIMEZONE
BEGIN:VEVENT
DTSTART;TZID=Europe/London:20250619T093000
DTEND;TZID=Europe/London:20250619T162000
DTSTAMP:20260424T140603Z
UID:{782E8710-E479-476E-8FC5A8AB6BD998A2}
LOCATION:Online
SUMMARY:Digital experience conference 2025
DESCRIPTION:This HE Professional event explores how universities can design and deliver the next generation of digital learning experiences to meet the needs and expectations of future students.\n
 \n
 Event details: https://www.amosshe.org.uk/latest/event-calendar/digital-experience-conference-2025.html
PRIORITY:1
END:VEVENT
END:VCALENDAR