BEGIN:VCALENDAR
PRODID:-//Pixl8//Eventfolio//EN
VERSION:2.0
X-WR-TIMEZONE:Europe/London
CALSCALE:GREGORIAN
METHOD:PUBLISH
CLASS:PUBLIC
BEGIN:VTIMEZONE
TZID:Europe/London
LAST-MODIFIED:20260306T231828Z
TZURL:https://www.tzurl.org/zoneinfo-outlook/Europe/London
X-LIC-LOCATION:Europe/London
BEGIN:DAYLIGHT
TZNAME:BST
TZOFFSETFROM:+0000
TZOFFSETTO:+0100
DTSTART:19700329T010000
RRULE:FREQ=YEARLY;BYMONTH=3;BYDAY=-1SU
END:DAYLIGHT
BEGIN:STANDARD
TZNAME:GMT
TZOFFSETFROM:+0100
TZOFFSETTO:+0000
DTSTART:19701025T020000
RRULE:FREQ=YEARLY;BYMONTH=10;BYDAY=-1SU
END:STANDARD
END:VTIMEZONE
BEGIN:VEVENT
DTSTART;TZID=Europe/London:20250911T110000
DTEND;TZID=Europe/London:20250911T120000
DTSTAMP:20260423T110245Z
UID:{2E41088A-7B25-43B2-961CF2574F83BD7A}
LOCATION:Online
SUMMARY:Disability discrimination and reasonable adjustments
DESCRIPTION:This free Eversheds Sutherland event explores how institutions should handle requests for reasonable adjustments as soon as they’re raised to minimise the risk of facing employment tribunal claims.\n
 \n
 Event details: https://www.amosshe.org.uk/latest/event-calendar/disability-discrimination-and-reasonable-adjustments.html
PRIORITY:1
END:VEVENT
END:VCALENDAR