BEGIN:VCALENDAR
PRODID:-//Pixl8//Eventfolio//EN
VERSION:2.0
X-WR-TIMEZONE:America/New_York
CALSCALE:GREGORIAN
METHOD:PUBLISH
CLASS:PUBLIC
BEGIN:VTIMEZONE
TZID:America/New_York
LAST-MODIFIED:20260306T231828Z
TZURL:https://www.tzurl.org/zoneinfo-outlook/America/New_York
X-LIC-LOCATION:America/New_York
BEGIN:DAYLIGHT
TZNAME:EDT
TZOFFSETFROM:-0500
TZOFFSETTO:-0400
DTSTART:19700308T020000
RRULE:FREQ=YEARLY;BYMONTH=3;BYDAY=2SU
END:DAYLIGHT
BEGIN:STANDARD
TZNAME:EST
TZOFFSETFROM:-0400
TZOFFSETTO:-0500
DTSTART:19701101T020000
RRULE:FREQ=YEARLY;BYMONTH=11;BYDAY=1SU
END:STANDARD
END:VTIMEZONE
BEGIN:VEVENT
DTSTART;TZID=America/New_York;VALUE=DATE:20250204
DTEND;TZID=America/New_York;VALUE=DATE:20250205
DTSTAMP:20260425T201453Z
UID:{EEC64E49-7DFC-4603-B12560ABB61E730A}
LOCATION:Online
SUMMARY:Diversity, equity & inclusion in academic advising: challenges, opportunities & strategies
DESCRIPTION:This US-based Innovative Educator provides evidence-based best practice that can be used to help academic advisors be more mindful of their inherent responsibility to integrate and reinforce the basic tenets of diversity, equity, and inclusion into the advising process at all levels.\n
 \n
 Event details: https://www.amosshe.org.uk/latest/event-calendar/diversity-equity-inclusion-in-academic-advising-challenges-opportunities-strategies.html
PRIORITY:1
END:VEVENT
END:VCALENDAR