BEGIN:VCALENDAR
PRODID:-//Pixl8//Eventfolio//EN
VERSION:2.0
X-WR-TIMEZONE:Europe/London
CALSCALE:GREGORIAN
METHOD:PUBLISH
CLASS:PUBLIC
BEGIN:VTIMEZONE
TZID:Europe/London
LAST-MODIFIED:20260306T231828Z
TZURL:https://www.tzurl.org/zoneinfo-outlook/Europe/London
X-LIC-LOCATION:Europe/London
BEGIN:DAYLIGHT
TZNAME:BST
TZOFFSETFROM:+0000
TZOFFSETTO:+0100
DTSTART:19700329T010000
RRULE:FREQ=YEARLY;BYMONTH=3;BYDAY=-1SU
END:DAYLIGHT
BEGIN:STANDARD
TZNAME:GMT
TZOFFSETFROM:+0100
TZOFFSETTO:+0000
DTSTART:19701025T020000
RRULE:FREQ=YEARLY;BYMONTH=10;BYDAY=-1SU
END:STANDARD
END:VTIMEZONE
BEGIN:VEVENT
DTSTART;TZID=Europe/London;VALUE=DATE:20250129
DTEND;TZID=Europe/London;VALUE=DATE:20250130
DTSTAMP:20260423T110930Z
UID:{5D07170F-6886-4C63-AFE0563F0EE0E7DF}
LOCATION:Online
SUMMARY:Drugs now: new trends, new issues
DESCRIPTION:This Drugs Training event draws upon the most up to date research to explore the rapidly changing drugs trends in the UK.\n
 \n
 Event details: https://www.amosshe.org.uk/latest/event-calendar/drugs-now-new-trends-new-issues.html
PRIORITY:1
END:VEVENT
END:VCALENDAR