BEGIN:VCALENDAR
PRODID:-//Pixl8//Eventfolio//EN
VERSION:2.0
X-WR-TIMEZONE:Europe/London
CALSCALE:GREGORIAN
METHOD:PUBLISH
CLASS:PUBLIC
BEGIN:VTIMEZONE
TZID:Europe/London
LAST-MODIFIED:20260306T231828Z
TZURL:https://www.tzurl.org/zoneinfo-outlook/Europe/London
X-LIC-LOCATION:Europe/London
BEGIN:DAYLIGHT
TZNAME:BST
TZOFFSETFROM:+0000
TZOFFSETTO:+0100
DTSTART:19700329T010000
RRULE:FREQ=YEARLY;BYMONTH=3;BYDAY=-1SU
END:DAYLIGHT
BEGIN:STANDARD
TZNAME:GMT
TZOFFSETFROM:+0100
TZOFFSETTO:+0000
DTSTART:19701025T020000
RRULE:FREQ=YEARLY;BYMONTH=10;BYDAY=-1SU
END:STANDARD
END:VTIMEZONE
BEGIN:VEVENT
DTSTART;TZID=Europe/London;VALUE=DATE:20250127
DTEND;TZID=Europe/London;VALUE=DATE:20250128
DTSTAMP:20260425T231223Z
UID:{DB6C5370-2A66-4BC9-A6F09B007DE8B54C}
LOCATION:London\, United Kingdom
SUMMARY:Earning while learning: student employment, gender and higher education
DESCRIPTION:This SRHE (Society for Research into Higher Education) event presents emerging findings from a major ESRC-funded mixed-methods study of young women’s earliest experiences of work.\n
 \n
 Event details: https://www.amosshe.org.uk/latest/event-calendar/earning-while-learning-student-employment-gender-and-higher-education.html
PRIORITY:1
END:VEVENT
END:VCALENDAR